{
 "documentInfo": {
  "Category": "",
  "Keywords": "",
  "Version": "3.6.0",
  "Comments": "",
  "AntialiasingMode": "None",
  "Title": "Engineering",
  "Author": "",
  "TextAntialiasingMode": "Force",
  "Subject": ""
 },
 "maxImageWidth": 4096,
 "maxRecordCount": 1000,
 "tileInfo": {
  "lods": [
   {
    "level": 0,
    "scale": 591657527.591555,
    "resolution": 156543.03392799999
   },
   {
    "level": 1,
    "scale": 295828763.795777023,
    "resolution": 78271.5169639998931
   },
   {
    "level": 2,
    "scale": 147914381.897888988,
    "resolution": 39135.7584820000993
   },
   {
    "level": 3,
    "scale": 73957190.9489440024,
    "resolution": 19567.8792409999005
   },
   {
    "level": 4,
    "scale": 36978595.4744720012,
    "resolution": 9783.93962049995935
   },
   {
    "level": 5,
    "scale": 18489297.7372360006,
    "resolution": 4891.96981024997967
   },
   {
    "level": 6,
    "scale": 9244648.8686180003,
    "resolution": 2445.98490512498984
   },
   {
    "level": 7,
    "scale": 4622324.43430900015,
    "resolution": 1222.99245256248992
   },
   {
    "level": 8,
    "scale": 2311162.21715500019,
    "resolution": 611.496226281380018
   },
   {
    "level": 9,
    "scale": 1155581.108577,
    "resolution": 305.748113140558019
   },
   {
    "level": 10,
    "scale": 577790.554288999992,
    "resolution": 152.874056570411
   },
   {
    "level": 11,
    "scale": 288895.277143999992,
    "resolution": 76.4370282850731968
   },
   {
    "level": 12,
    "scale": 144447.638572,
    "resolution": 38.2185141425365984
   },
   {
    "level": 13,
    "scale": 72223.8192859999981,
    "resolution": 19.1092570712682992
   },
   {
    "level": 14,
    "scale": 36111.9096429999991,
    "resolution": 9.5546285356341496
   },
   {
    "level": 15,
    "scale": 18055.954822,
    "resolution": 4.7773142679493699
   },
   {
    "level": 16,
    "scale": 9027.97741099999985,
    "resolution": 2.38865713397468
   },
   {
    "level": 17,
    "scale": 4513.98870499999975,
    "resolution": 1.1943285668550501
   },
   {
    "level": 18,
    "scale": 2256.994353,
    "resolution": 0.59716428355981699
   },
   {
    "level": 19,
    "scale": 1128.49717600000008,
    "resolution": 0.29858214164761698
   },
   {
    "level": 20,
    "scale": 564.248588000000041,
    "resolution": 0.14929107082380833
   },
   {
    "level": 21,
    "scale": 282.12429400000002,
    "resolution": 0.074645535411904163
   },
   {
    "level": 22,
    "scale": 141.06214700000001,
    "resolution": 0.037322767705952081
   },
   {
    "level": 23,
    "scale": 70.5310735000000051,
    "resolution": 0.018661383852976041
   }
  ],
  "origin": {
   "x": -20037508.3427870013,
   "y": 20037508.3427870013
  },
  "format": "Mixed",
  "compressionQuality": 75,
  "rows": 256,
  "dpi": 96,
  "spatialReference": {
   "falseM": -100000,
   "xyTolerance": 0.001,
   "mUnits": 10000,
   "zUnits": 10000,
   "latestWkid": 3857,
   "zTolerance": 0.001,
   "wkid": 102100,
   "xyUnits": 148923141.928385377,
   "mTolerance": 0.001,
   "falseX": -20037700,
   "falseY": -30241100,
   "falseZ": -100000
  },
  "cols": 256
 },
 "description": "",
 "datesInUnknownTimezone": false,
 "supportsQueryDomains": true,
 "units": "esriMeters",
 "maxSelectionCount": 2000,
 "supportedImageFormatTypes": "PNG32,PNG24,PNG,JPG,DIB,TIFF,EMF,PS,PDF,GIF,SVG,SVGZ,BMP",
 "supportsClipping": true,
 "maxImageHeight": 4096,
 "exportTilesAllowed": true,
 "tables": [],
 "supportsDatumTransformation": true,
 "cimVersion": "3.6.0",
 "supportsQueryDataElements": true,
 "layers": [
  {
   "subLayerIds": [
    1,
    2,
    3,
    4,
    5,
    6,
    7,
    8,
    9,
    10,
    11,
    12,
    13,
    14,
    15,
    16,
    17,
    18,
    19,
    20,
    21,
    22,
    23
   ],
   "maxScale": 0,
   "name": "3\" Nearmap - Jan 8, 2026",
   "defaultVisibility": true,
   "id": 0,
   "minScale": 0,
   "supportsDynamicLegends": false,
   "type": "Group Layer",
   "parentLayerId": -1
  },
  {
   "subLayerIds": null,
   "maxScale": 0,
   "name": "EPSG2229_Date20260108_Lat33.755698_Lon-118.380344_Mpp0.075_Vert.jpg",
   "defaultVisibility": true,
   "id": 1,
   "minScale": 0,
   "supportsDynamicLegends": true,
   "type": "Raster Layer",
   "parentLayerId": 0
  },
  {
   "subLayerIds": null,
   "maxScale": 0,
   "name": "EPSG2229_Date20260108_Lat33.755698_Lon-118.373821_Mpp0.075_Vert.jpg",
   "defaultVisibility": true,
   "id": 2,
   "minScale": 0,
   "supportsDynamicLegends": true,
   "type": "Raster Layer",
   "parentLayerId": 0
  },
  {
   "subLayerIds": null,
   "maxScale": 0,
   "name": "EPSG2229_Date20260108_Lat33.755698_Lon-118.367105_Mpp0.075_Vert.jpg",
   "defaultVisibility": true,
   "id": 3,
   "minScale": 0,
   "supportsDynamicLegends": true,
   "type": "Raster Layer",
   "parentLayerId": 0
  },
  {
   "subLayerIds": null,
   "maxScale": 0,
   "name": "EPSG2229_Date20260108_Lat33.755698_Lon-118.360388_Mpp0.075_Vert.jpg",
   "defaultVisibility": true,
   "id": 4,
   "minScale": 0,
   "supportsDynamicLegends": true,
   "type": "Raster Layer",
   "parentLayerId": 0
  },
  {
   "subLayerIds": null,
   "maxScale": 0,
   "name": "EPSG2229_Date20260108_Lat33.755698_Lon-118.353758_Mpp0.075_Vert.jpg",
   "defaultVisibility": true,
   "id": 5,
   "minScale": 0,
   "supportsDynamicLegends": true,
   "type": "Raster Layer",
   "parentLayerId": 0
  },
  {
   "subLayerIds": null,
   "maxScale": 0,
   "name": "EPSG2229_Date20260108_Lat33.749936_Lon-118.379979_Mpp0.075_Vert.jpg",
   "defaultVisibility": true,
   "id": 6,
   "minScale": 0,
   "supportsDynamicLegends": true,
   "type": "Raster Layer",
   "parentLayerId": 0
  },
  {
   "subLayerIds": null,
   "maxScale": 0,
   "name": "EPSG2229_Date20260108_Lat33.749936_Lon-118.366804_Mpp0.075_Vert.jpg",
   "defaultVisibility": true,
   "id": 7,
   "minScale": 0,
   "supportsDynamicLegends": true,
   "type": "Raster Layer",
   "parentLayerId": 0
  },
  {
   "subLayerIds": null,
   "maxScale": 0,
   "name": "EPSG2229_Date20260108_Lat33.749936_Lon-118.360303_Mpp0.075_Vert.jpg",
   "defaultVisibility": true,
   "id": 8,
   "minScale": 0,
   "supportsDynamicLegends": true,
   "type": "Raster Layer",
   "parentLayerId": 0
  },
  {
   "subLayerIds": null,
   "maxScale": 0,
   "name": "EPSG2229_Date20260108_Lat33.749936_Lon-118.353737_Mpp0.075_Vert.jpg",
   "defaultVisibility": true,
   "id": 9,
   "minScale": 0,
   "supportsDynamicLegends": true,
   "type": "Raster Layer",
   "parentLayerId": 0
  },
  {
   "subLayerIds": null,
   "maxScale": 0,
   "name": "EPSG2229_Date20260108_Lat33.749936_Lon-118.37337_Mpp0.075_Vert.jpg",
   "defaultVisibility": true,
   "id": 10,
   "minScale": 0,
   "supportsDynamicLegends": true,
   "type": "Raster Layer",
   "parentLayerId": 0
  },
  {
   "subLayerIds": null,
   "maxScale": 0,
   "name": "EPSG2229_Date20260108_Lat33.744173_Lon-118.379979_Mpp0.075_Vert.jpg",
   "defaultVisibility": true,
   "id": 11,
   "minScale": 0,
   "supportsDynamicLegends": true,
   "type": "Raster Layer",
   "parentLayerId": 0
  },
  {
   "subLayerIds": null,
   "maxScale": 0,
   "name": "EPSG2229_Date20260108_Lat33.744173_Lon-118.366676_Mpp0.075_Vert.jpg",
   "defaultVisibility": true,
   "id": 12,
   "minScale": 0,
   "supportsDynamicLegends": true,
   "type": "Raster Layer",
   "parentLayerId": 0
  },
  {
   "subLayerIds": null,
   "maxScale": 0,
   "name": "EPSG2229_Date20260108_Lat33.744173_Lon-118.360045_Mpp0.075_Vert.jpg",
   "defaultVisibility": true,
   "id": 13,
   "minScale": 0,
   "supportsDynamicLegends": true,
   "type": "Raster Layer",
   "parentLayerId": 0
  },
  {
   "subLayerIds": null,
   "maxScale": 0,
   "name": "EPSG2229_Date20260108_Lat33.744173_Lon-118.353522_Mpp0.075_Vert.jpg",
   "defaultVisibility": true,
   "id": 14,
   "minScale": 0,
   "supportsDynamicLegends": true,
   "type": "Raster Layer",
   "parentLayerId": 0
  },
  {
   "subLayerIds": null,
   "maxScale": 0,
   "name": "EPSG2229_Date20260108_Lat33.744173_Lon-118.37337_Mpp0.075_Vert.jpg",
   "defaultVisibility": true,
   "id": 15,
   "minScale": 0,
   "supportsDynamicLegends": true,
   "type": "Raster Layer",
   "parentLayerId": 0
  },
  {
   "subLayerIds": null,
   "maxScale": 0,
   "name": "EPSG2229_Date20260108_Lat33.738338_Lon-118.379271_Mpp0.075_Vert.jpg",
   "defaultVisibility": true,
   "id": 16,
   "minScale": 0,
   "supportsDynamicLegends": true,
   "type": "Raster Layer",
   "parentLayerId": 0
  },
  {
   "subLayerIds": null,
   "maxScale": 0,
   "name": "EPSG2229_Date20260108_Lat33.738338_Lon-118.372877_Mpp0.075_Vert.jpg",
   "defaultVisibility": true,
   "id": 17,
   "minScale": 0,
   "supportsDynamicLegends": true,
   "type": "Raster Layer",
   "parentLayerId": 0
  },
  {
   "subLayerIds": null,
   "maxScale": 0,
   "name": "EPSG2229_Date20260108_Lat33.738338_Lon-118.366418_Mpp0.075_Vert.jpg",
   "defaultVisibility": true,
   "id": 18,
   "minScale": 0,
   "supportsDynamicLegends": true,
   "type": "Raster Layer",
   "parentLayerId": 0
  },
  {
   "subLayerIds": null,
   "maxScale": 0,
   "name": "EPSG2229_Date20260108_Lat33.738338_Lon-118.360002_Mpp0.075_Vert.jpg",
   "defaultVisibility": true,
   "id": 19,
   "minScale": 0,
   "supportsDynamicLegends": true,
   "type": "Raster Layer",
   "parentLayerId": 0
  },
  {
   "subLayerIds": null,
   "maxScale": 0,
   "name": "EPSG2229_Date20260108_Lat33.738338_Lon-118.353522_Mpp0.075_Vert.jpg",
   "defaultVisibility": true,
   "id": 20,
   "minScale": 0,
   "supportsDynamicLegends": true,
   "type": "Raster Layer",
   "parentLayerId": 0
  },
  {
   "subLayerIds": null,
   "maxScale": 0,
   "name": "EPSG2229_Date20260108_Lat33.733841_Lon-118.376353_Mpp0.075_Vert.jpg",
   "defaultVisibility": true,
   "id": 21,
   "minScale": 0,
   "supportsDynamicLegends": true,
   "type": "Raster Layer",
   "parentLayerId": 0
  },
  {
   "subLayerIds": null,
   "maxScale": 0,
   "name": "EPSG2229_Date20260108_Lat33.733841_Lon-118.364208_Mpp0.150_Vert.jpg",
   "defaultVisibility": true,
   "id": 22,
   "minScale": 0,
   "supportsDynamicLegends": true,
   "type": "Raster Layer",
   "parentLayerId": 0
  },
  {
   "subLayerIds": null,
   "maxScale": 0,
   "name": "EPSG2229_Date20260108_Lat33.733841_Lon-118.35408_Mpp0.150_Vert.jpg",
   "defaultVisibility": true,
   "id": 23,
   "minScale": 0,
   "supportsDynamicLegends": true,
   "type": "Raster Layer",
   "parentLayerId": 0
  }
 ],
 "mapName": "Engineering",
 "archivingInfo": {
  "supportsHistoricMoment": false
 },
 "minScale": 36111.909643,
 "spatialReference": {
  "falseM": -100000,
  "xyTolerance": 0.001,
  "mUnits": 10000,
  "zUnits": 10000,
  "latestWkid": 3857,
  "zTolerance": 0.001,
  "wkid": 102100,
  "xyUnits": 10000,
  "mTolerance": 0.001,
  "falseX": -20037700,
  "falseY": -30241100,
  "falseZ": -100000
 },
 "fullExtent": {
  "ymin": 1725150.5,
  "xmin": 6445073,
  "ymax": 1734733.25,
  "xmax": 6455240,
  "spatialReference": {
   "falseM": -100000,
   "xyTolerance": 0.001,
   "mUnits": 10000,
   "zUnits": 10000,
   "latestWkid": 3857,
   "zTolerance": 0.001,
   "wkid": 102100,
   "xyUnits": 10000,
   "mTolerance": 0.001,
   "falseX": -20037700,
   "falseY": -30241100,
   "falseZ": -100000
  }
 },
 "supportedExtensions": "",
 "serviceItemId": "7bbcca6ac6ee477290dd33938daf1ff0",
 "capabilities": "TilesOnly,Tilemap",
 "supportsDynamicLayers": false,
 "maxScale": 70.5310735,
 "singleFusedMapCache": true,
 "currentVersion": 12,
 "storageInfo": {
  "storageFormat": "esriMapCacheStorageModeCompactV2",
  "packetSize": 128
 },
 "mapUnits": {
  "uwkid": 9001
 },
 "referenceScale": 0,
 "floorAwareMapProperties": {
  "defaultFloorFilterSettings": {
   "isEnabled": false
  }
 },
 "maxExportTilesCount": 100000,
 "supportsSpatialFilter": true,
 "supportedQueryFormats": "JSON, geoJSON, PBF",
 "datumTransformations": [
  {
   "geoTransforms": [
    {
     "latestWkid": 108363,
     "transformForward": true,
     "wkid": 108363,
     "name": "WGS_1984_(ITRF08)_To_NAD_1983_2011"
    }
   ]
  },
  {
   "geoTransforms": [
    {
     "latestWkid": 108363,
     "transformForward": false,
     "wkid": 108363,
     "name": "WGS_1984_(ITRF08)_To_NAD_1983_2011"
    }
   ]
  },
  {
   "geoTransforms": [
    {
     "latestWkid": 108190,
     "transformForward": false,
     "wkid": 108190,
     "name": "WGS_1984_(ITRF00)_To_NAD_1983"
    },
    {
     "latestWkid": 108363,
     "transformForward": true,
     "wkid": 108363,
     "name": "WGS_1984_(ITRF08)_To_NAD_1983_2011"
    }
   ]
  },
  {
   "geoTransforms": [
    {
     "latestWkid": 108363,
     "transformForward": false,
     "wkid": 108363,
     "name": "WGS_1984_(ITRF08)_To_NAD_1983_2011"
    },
    {
     "latestWkid": 108190,
     "transformForward": true,
     "wkid": 108190,
     "name": "WGS_1984_(ITRF00)_To_NAD_1983"
    }
   ]
  },
  {
   "geoTransforms": [
    {
     "latestWkid": 108190,
     "transformForward": false,
     "wkid": 108190,
     "name": "WGS_1984_(ITRF00)_To_NAD_1983"
    },
    {
     "latestWkid": 108363,
     "transformForward": true,
     "wkid": 108363,
     "name": "WGS_1984_(ITRF08)_To_NAD_1983_2011"
    }
   ]
  },
  {
   "geoTransforms": [
    {
     "latestWkid": 108363,
     "transformForward": false,
     "wkid": 108363,
     "name": "WGS_1984_(ITRF08)_To_NAD_1983_2011"
    },
    {
     "latestWkid": 108190,
     "transformForward": true,
     "wkid": 108190,
     "name": "WGS_1984_(ITRF00)_To_NAD_1983"
    }
   ]
  },
  {
   "geoTransforms": [
    {
     "latestWkid": 108190,
     "transformForward": false,
     "wkid": 108190,
     "name": "WGS_1984_(ITRF00)_To_NAD_1983"
    },
    {
     "latestWkid": 108363,
     "transformForward": true,
     "wkid": 108363,
     "name": "WGS_1984_(ITRF08)_To_NAD_1983_2011"
    }
   ]
  },
  {
   "geoTransforms": [
    {
     "latestWkid": 108363,
     "transformForward": false,
     "wkid": 108363,
     "name": "WGS_1984_(ITRF08)_To_NAD_1983_2011"
    },
    {
     "latestWkid": 108190,
     "transformForward": true,
     "wkid": 108190,
     "name": "WGS_1984_(ITRF00)_To_NAD_1983"
    }
   ]
  },
  {
   "geoTransforms": [
    {
     "latestWkid": 108190,
     "transformForward": false,
     "wkid": 108190,
     "name": "WGS_1984_(ITRF00)_To_NAD_1983"
    },
    {
     "latestWkid": 108363,
     "transformForward": true,
     "wkid": 108363,
     "name": "WGS_1984_(ITRF08)_To_NAD_1983_2011"
    }
   ]
  },
  {
   "geoTransforms": [
    {
     "latestWkid": 108363,
     "transformForward": false,
     "wkid": 108363,
     "name": "WGS_1984_(ITRF08)_To_NAD_1983_2011"
    },
    {
     "latestWkid": 108190,
     "transformForward": true,
     "wkid": 108190,
     "name": "WGS_1984_(ITRF00)_To_NAD_1983"
    }
   ]
  },
  {
   "geoTransforms": [
    {
     "latestWkid": 108190,
     "transformForward": false,
     "wkid": 108190,
     "name": "WGS_1984_(ITRF00)_To_NAD_1983"
    },
    {
     "latestWkid": 108363,
     "transformForward": true,
     "wkid": 108363,
     "name": "WGS_1984_(ITRF08)_To_NAD_1983_2011"
    }
   ]
  },
  {
   "geoTransforms": [
    {
     "latestWkid": 108363,
     "transformForward": false,
     "wkid": 108363,
     "name": "WGS_1984_(ITRF08)_To_NAD_1983_2011"
    },
    {
     "latestWkid": 108190,
     "transformForward": true,
     "wkid": 108190,
     "name": "WGS_1984_(ITRF00)_To_NAD_1983"
    }
   ]
  },
  {
   "geoTransforms": [
    {
     "latestWkid": 108190,
     "transformForward": false,
     "wkid": 108190,
     "name": "WGS_1984_(ITRF00)_To_NAD_1983"
    },
    {
     "latestWkid": 108363,
     "transformForward": true,
     "wkid": 108363,
     "name": "WGS_1984_(ITRF08)_To_NAD_1983_2011"
    }
   ]
  },
  {
   "geoTransforms": [
    {
     "latestWkid": 108363,
     "transformForward": false,
     "wkid": 108363,
     "name": "WGS_1984_(ITRF08)_To_NAD_1983_2011"
    },
    {
     "latestWkid": 108190,
     "transformForward": true,
     "wkid": 108190,
     "name": "WGS_1984_(ITRF00)_To_NAD_1983"
    }
   ]
  },
  {
   "geoTransforms": [
    {
     "latestWkid": 108190,
     "transformForward": false,
     "wkid": 108190,
     "name": "WGS_1984_(ITRF00)_To_NAD_1983"
    },
    {
     "latestWkid": 108363,
     "transformForward": true,
     "wkid": 108363,
     "name": "WGS_1984_(ITRF08)_To_NAD_1983_2011"
    }
   ]
  },
  {
   "geoTransforms": [
    {
     "latestWkid": 108363,
     "transformForward": false,
     "wkid": 108363,
     "name": "WGS_1984_(ITRF08)_To_NAD_1983_2011"
    },
    {
     "latestWkid": 108190,
     "transformForward": true,
     "wkid": 108190,
     "name": "WGS_1984_(ITRF00)_To_NAD_1983"
    }
   ]
  },
  {
   "geoTransforms": [
    {
     "latestWkid": 108190,
     "transformForward": false,
     "wkid": 108190,
     "name": "WGS_1984_(ITRF00)_To_NAD_1983"
    },
    {
     "latestWkid": 108363,
     "transformForward": true,
     "wkid": 108363,
     "name": "WGS_1984_(ITRF08)_To_NAD_1983_2011"
    }
   ]
  },
  {
   "geoTransforms": [
    {
     "latestWkid": 108363,
     "transformForward": false,
     "wkid": 108363,
     "name": "WGS_1984_(ITRF08)_To_NAD_1983_2011"
    },
    {
     "latestWkid": 108190,
     "transformForward": true,
     "wkid": 108190,
     "name": "WGS_1984_(ITRF00)_To_NAD_1983"
    }
   ]
  },
  {
   "geoTransforms": [
    {
     "latestWkid": 108190,
     "transformForward": false,
     "wkid": 108190,
     "name": "WGS_1984_(ITRF00)_To_NAD_1983"
    },
    {
     "latestWkid": 108363,
     "transformForward": true,
     "wkid": 108363,
     "name": "WGS_1984_(ITRF08)_To_NAD_1983_2011"
    }
   ]
  },
  {
   "geoTransforms": [
    {
     "latestWkid": 108363,
     "transformForward": false,
     "wkid": 108363,
     "name": "WGS_1984_(ITRF08)_To_NAD_1983_2011"
    },
    {
     "latestWkid": 108190,
     "transformForward": true,
     "wkid": 108190,
     "name": "WGS_1984_(ITRF00)_To_NAD_1983"
    }
   ]
  },
  {
   "geoTransforms": [
    {
     "latestWkid": 108190,
     "transformForward": false,
     "wkid": 108190,
     "name": "WGS_1984_(ITRF00)_To_NAD_1983"
    },
    {
     "latestWkid": 108363,
     "transformForward": true,
     "wkid": 108363,
     "name": "WGS_1984_(ITRF08)_To_NAD_1983_2011"
    }
   ]
  },
  {
   "geoTransforms": [
    {
     "latestWkid": 108363,
     "transformForward": false,
     "wkid": 108363,
     "name": "WGS_1984_(ITRF08)_To_NAD_1983_2011"
    },
    {
     "latestWkid": 108190,
     "transformForward": true,
     "wkid": 108190,
     "name": "WGS_1984_(ITRF00)_To_NAD_1983"
    }
   ]
  },
  {
   "geoTransforms": [
    {
     "latestWkid": 108190,
     "transformForward": false,
     "wkid": 108190,
     "name": "WGS_1984_(ITRF00)_To_NAD_1983"
    },
    {
     "latestWkid": 108363,
     "transformForward": true,
     "wkid": 108363,
     "name": "WGS_1984_(ITRF08)_To_NAD_1983_2011"
    }
   ]
  },
  {
   "geoTransforms": [
    {
     "latestWkid": 108363,
     "transformForward": false,
     "wkid": 108363,
     "name": "WGS_1984_(ITRF08)_To_NAD_1983_2011"
    },
    {
     "latestWkid": 108190,
     "transformForward": true,
     "wkid": 108190,
     "name": "WGS_1984_(ITRF00)_To_NAD_1983"
    }
   ]
  },
  {
   "geoTransforms": [
    {
     "latestWkid": 108190,
     "transformForward": false,
     "wkid": 108190,
     "name": "WGS_1984_(ITRF00)_To_NAD_1983"
    },
    {
     "latestWkid": 108363,
     "transformForward": true,
     "wkid": 108363,
     "name": "WGS_1984_(ITRF08)_To_NAD_1983_2011"
    }
   ]
  },
  {
   "geoTransforms": [
    {
     "latestWkid": 108363,
     "transformForward": false,
     "wkid": 108363,
     "name": "WGS_1984_(ITRF08)_To_NAD_1983_2011"
    },
    {
     "latestWkid": 108190,
     "transformForward": true,
     "wkid": 108190,
     "name": "WGS_1984_(ITRF00)_To_NAD_1983"
    }
   ]
  },
  {
   "geoTransforms": [
    {
     "latestWkid": 108190,
     "transformForward": false,
     "wkid": 108190,
     "name": "WGS_1984_(ITRF00)_To_NAD_1983"
    },
    {
     "latestWkid": 108363,
     "transformForward": true,
     "wkid": 108363,
     "name": "WGS_1984_(ITRF08)_To_NAD_1983_2011"
    }
   ]
  },
  {
   "geoTransforms": [
    {
     "latestWkid": 108363,
     "transformForward": false,
     "wkid": 108363,
     "name": "WGS_1984_(ITRF08)_To_NAD_1983_2011"
    },
    {
     "latestWkid": 108190,
     "transformForward": true,
     "wkid": 108190,
     "name": "WGS_1984_(ITRF00)_To_NAD_1983"
    }
   ]
  },
  {
   "geoTransforms": [
    {
     "latestWkid": 108190,
     "transformForward": false,
     "wkid": 108190,
     "name": "WGS_1984_(ITRF00)_To_NAD_1983"
    },
    {
     "latestWkid": 108363,
     "transformForward": true,
     "wkid": 108363,
     "name": "WGS_1984_(ITRF08)_To_NAD_1983_2011"
    }
   ]
  },
  {
   "geoTransforms": [
    {
     "latestWkid": 108363,
     "transformForward": false,
     "wkid": 108363,
     "name": "WGS_1984_(ITRF08)_To_NAD_1983_2011"
    },
    {
     "latestWkid": 108190,
     "transformForward": true,
     "wkid": 108190,
     "name": "WGS_1984_(ITRF00)_To_NAD_1983"
    }
   ]
  },
  {
   "geoTransforms": [
    {
     "latestWkid": 108190,
     "transformForward": false,
     "wkid": 108190,
     "name": "WGS_1984_(ITRF00)_To_NAD_1983"
    },
    {
     "latestWkid": 108363,
     "transformForward": true,
     "wkid": 108363,
     "name": "WGS_1984_(ITRF08)_To_NAD_1983_2011"
    }
   ]
  },
  {
   "geoTransforms": [
    {
     "latestWkid": 108363,
     "transformForward": false,
     "wkid": 108363,
     "name": "WGS_1984_(ITRF08)_To_NAD_1983_2011"
    },
    {
     "latestWkid": 108190,
     "transformForward": true,
     "wkid": 108190,
     "name": "WGS_1984_(ITRF00)_To_NAD_1983"
    }
   ]
  },
  {
   "geoTransforms": [
    {
     "latestWkid": 108190,
     "transformForward": false,
     "wkid": 108190,
     "name": "WGS_1984_(ITRF00)_To_NAD_1983"
    },
    {
     "latestWkid": 108363,
     "transformForward": true,
     "wkid": 108363,
     "name": "WGS_1984_(ITRF08)_To_NAD_1983_2011"
    }
   ]
  },
  {
   "geoTransforms": [
    {
     "latestWkid": 108363,
     "transformForward": false,
     "wkid": 108363,
     "name": "WGS_1984_(ITRF08)_To_NAD_1983_2011"
    },
    {
     "latestWkid": 108190,
     "transformForward": true,
     "wkid": 108190,
     "name": "WGS_1984_(ITRF00)_To_NAD_1983"
    }
   ]
  },
  {
   "geoTransforms": [
    {
     "latestWkid": 108190,
     "transformForward": false,
     "wkid": 108190,
     "name": "WGS_1984_(ITRF00)_To_NAD_1983"
    },
    {
     "latestWkid": 108363,
     "transformForward": true,
     "wkid": 108363,
     "name": "WGS_1984_(ITRF08)_To_NAD_1983_2011"
    }
   ]
  },
  {
   "geoTransforms": [
    {
     "latestWkid": 108363,
     "transformForward": false,
     "wkid": 108363,
     "name": "WGS_1984_(ITRF08)_To_NAD_1983_2011"
    },
    {
     "latestWkid": 108190,
     "transformForward": true,
     "wkid": 108190,
     "name": "WGS_1984_(ITRF00)_To_NAD_1983"
    }
   ]
  },
  {
   "geoTransforms": [
    {
     "latestWkid": 108190,
     "transformForward": false,
     "wkid": 108190,
     "name": "WGS_1984_(ITRF00)_To_NAD_1983"
    },
    {
     "latestWkid": 108363,
     "transformForward": true,
     "wkid": 108363,
     "name": "WGS_1984_(ITRF08)_To_NAD_1983_2011"
    }
   ]
  },
  {
   "geoTransforms": [
    {
     "latestWkid": 108363,
     "transformForward": false,
     "wkid": 108363,
     "name": "WGS_1984_(ITRF08)_To_NAD_1983_2011"
    },
    {
     "latestWkid": 108190,
     "transformForward": true,
     "wkid": 108190,
     "name": "WGS_1984_(ITRF00)_To_NAD_1983"
    }
   ]
  },
  {
   "geoTransforms": [
    {
     "latestWkid": 108190,
     "transformForward": false,
     "wkid": 108190,
     "name": "WGS_1984_(ITRF00)_To_NAD_1983"
    },
    {
     "latestWkid": 108363,
     "transformForward": true,
     "wkid": 108363,
     "name": "WGS_1984_(ITRF08)_To_NAD_1983_2011"
    }
   ]
  },
  {
   "geoTransforms": [
    {
     "latestWkid": 108363,
     "transformForward": false,
     "wkid": 108363,
     "name": "WGS_1984_(ITRF08)_To_NAD_1983_2011"
    },
    {
     "latestWkid": 108190,
