View In:
ArcGIS JavaScript
ArcGIS Online Map Viewer
ArcGIS Earth
ArcGIS Pro
Service Description:
Map Name: Orthomosaic
Legend
All Layers and Tables
Layers:
Description:
Service Item Id: 4829fda402f64892822dd371981a6f42
Copyright Text:
Spatial Reference:
102100
(3857)
Single Fused Map Cache: true
Tile Info:
- Height: 256.0
- Width: 256.0
- DPI: 96.0
-
Levels of Detail: 24
-
Level ID: 0
[ Start Tile, End Tile ]
- Resolution: 156543.03392799999
- Scale: 591657527.591555
-
Level ID: 1
[ Start Tile, End Tile ]
- Resolution: 78271.516963999893051
- Scale: 295828763.79577702284
-
Level ID: 2
[ Start Tile, End Tile ]
- Resolution: 39135.75848200009932
- Scale: 147914381.89788898826
-
Level ID: 3
[ Start Tile, End Tile ]
- Resolution: 19567.8792409999005
- Scale: 73957190.94894400239
-
Level ID: 4
[ Start Tile, End Tile ]
- Resolution: 9783.9396204999593465
- Scale: 36978595.474472001195
-
Level ID: 5
[ Start Tile, End Tile ]
- Resolution: 4891.9698102499796732
- Scale: 18489297.7372360006
-
Level ID: 6
[ Start Tile, End Tile ]
- Resolution: 2445.9849051249898366
- Scale: 9244648.8686180003
-
Level ID: 7
[ Start Tile, End Tile ]
- Resolution: 1222.9924525624899161
- Scale: 4622324.4343090001494
-
Level ID: 8
[ Start Tile, End Tile ]
- Resolution: 611.496226281380018
- Scale: 2311162.2171550001949
-
Level ID: 9
[ Start Tile, End Tile ]
- Resolution: 305.74811314055801859
- Scale: 1155581.108577
-
Level ID: 10
[ Start Tile, End Tile ]
- Resolution: 152.874056570411
- Scale: 577790.55428899999242
-
Level ID: 11
[ Start Tile, End Tile ]
- Resolution: 76.4370282850731968
- Scale: 288895.2771439999924
-
Level ID: 12
[ Start Tile, End Tile ]
- Resolution: 38.2185141425365984
- Scale: 144447.638572
-
Level ID: 13
[ Start Tile, End Tile ]
- Resolution: 19.1092570712682992
- Scale: 72223.8192859999981
-
Level ID: 14
[ Start Tile, End Tile ]
- Resolution: 9.5546285356341496
- Scale: 36111.909642999999051
-
Level ID: 16
[ Start Tile, End Tile ]
- Resolution: 2.38865713397468
- Scale: 9027.9774109999998473
-
Level ID: 17
[ Start Tile, End Tile ]
- Resolution: 1.1943285668550501
- Scale: 4513.9887049999997544
-
Level ID: 19
[ Start Tile, End Tile ]
- Resolution: 0.29858214164761698
- Scale: 1128.4971760000000813
-
Level ID: 20
[ Start Tile, End Tile ]
- Resolution: 0.14929107082380833
- Scale: 564.24858800000004067
-
Level ID: 21
[ Start Tile, End Tile ]
- Resolution: 0.074645535411904163
- Scale: 282.12429400000002
-
Level ID: 22
[ Start Tile, End Tile ]
- Resolution: 0.037322767705952081
- Scale: 141.06214700000001
-
Level ID: 23
[ Start Tile, End Tile ]
- Resolution: 0.018661383852976041
- Scale: 70.53107350000000508
- Format: Mixed
- Compression Quality: 75.0
- Origin: X: -2.0037508342787E7
Y: 2.0037508342787E7
- Spatial Reference: 102100
(3857)
Storage Info:
- Storage Format: esriMapCacheStorageModeCompactV2
- Packet Size: 128
Initial Extent:
XMin: -1.2971513855926014E7
YMin: 4003152.453519467
XMax: -1.2970810986111134E7
YMax: 4003776.504784166
Spatial Reference: 102100
Full Extent:
XMin: -1.2971882185584797E7
YMin: 4003189.157544072
XMax: -1.2969887114996858E7
YMax: 4003913.275121692
Spatial Reference: 102100
Units: esriMeters
Supported Image Format Types: PNG32,PNG24,PNG,JPG,DIB,TIFF,EMF,PS,PDF,GIF,SVG,SVGZ,BMP
Document Info:
Title: C:\Users\HTorpey\AppData\Local\Temp\ArcGISProTemp15952\b9c01527-32ae-464c-bef0-4d4e47f45fe8\Untitled.aprx
Author:
Comments:
Subject:
Category:
Keywords:
AntialiasingMode: None
TextAntialiasingMode: Force
Supports Dynamic Layers: false
MaxRecordCount: 1000
MaxSelectionCount: 0
MaxImageHeight: 4096
MaxImageWidth: 4096
Supported Query Formats: JSON, geoJSON, PBF
Supports Query Data Elements: true
Min Scale: 18055.954822
Max Scale: 70.5310735
Supports Datum Transformation: true
Child Resources:
Info
Supported Operations:
QueryLegends
EstimateExportTilesSize
ExportTiles
Return Updates