View In:
ArcGIS JavaScript
ArcGIS Online Map Viewer
ArcGIS Earth
Service Description: Imagery/BCF2101_FuelMod
Name: Imagery/BCF2101_FuelMod
Description:
Single Fused Map Cache: false
Extent:
XMin: 428786.40579000005
YMin: 3710479.0166700003
XMax: 429720.73919000005
YMax: 3711198.8011900005
Spatial Reference: 32611
(32611)
Initial Extent:
XMin: 428786.40579000005
YMin: 3710479.0166700003
XMax: 429720.73919000005
YMax: 3711198.8011900005
Spatial Reference: 32611
(32611)
Full Extent:
XMin: 428786.40579000005
YMin: 3710479.0166700003
XMax: 429720.73919000005
YMax: 3711198.8011900005
Spatial Reference: 32611
(32611)
Pixel Size X: 0.04732000000000016
Pixel Size Y: 0.04732000000001442
Band Count: 4
Pixel Type: U8
RasterFunction Infos: {"rasterFunctionInfos": [{
"name": "None",
"description": "",
"help": ""
}]}
Mensuration Capabilities: Basic
Inspection Capabilities:
Has Histograms: false
Has Colormap: false
Has Multi Dimensions : false
Rendering Rule:
Min Scale: 0
Max Scale: 0
Copyright Text:
Service Data Type: esriImageServiceDataTypeGeneric
Min Values: N/A
Max Values: N/A
Mean Values: N/A
Standard Deviation Values: N/A
Object ID Field:
Fields:
None
Default Mosaic Method: Center
Allowed Mosaic Methods:
SortField:
SortValue: null
Mosaic Operator: First
Default Compression Quality: 75
Default Resampling Method: Bilinear
Max Record Count: null
Max Image Height: 4100
Max Image Width: 15000
Max Download Image Count: null
Max Mosaic Image Count: null
Allow Raster Function: true
Allow Copy: true
Allow Analysis: true
Allow Compute TiePoints: false
Supports Statistics: false
Supports Advanced Queries: false
Use StandardizedQueries: true
Raster Type Infos:
Name: Raster Dataset
Description: Supports all ArcGIS Raster Datasets
Help:
Has Raster Attribute Table: false
Edit Fields Info: null
Ownership Based AccessControl For Rasters: null
Child Resources:
Info
Statistics
Key Properties
Legend
Raster Function Infos
Supported Operations:
Export Image
Identify
Measure
Compute Histograms
Compute Statistics Histograms
Get Samples
Compute Class Statistics
Query Boundary
Compute Pixel Location
Compute Angles
Validate
Project